BEGIN:VCALENDAR
VERSION:2.0
PRODID:-//wp-events-plugin.com//7.2.3.1//EN
BEGIN:VEVENT
UID:86@harlowrugby.club
DTSTART:20250517T120000Z
DTEND:20250517T120000Z
DTSTAMP:20250415T131444Z
URL:https://harlowrugby.club/events/charity-fun-day/
SUMMARY:Charity Fun Day
DESCRIPTION:Bring your family and join us for a day full of laughter\, exci
 tement\, and unforgettable memories!\n\n 	Stalls\n 	Exciting Games &amp\; 
 Activities\n 	Delicious Food Stalls\n 	Bouncy castles\n 	Rugby match\n 	Ev
 ening disco\n 	Music on the terrace\n 	Raffle\n\nFree Entry\nActivities - 
 Pay as you Go\nfor more information\, contact: Wendy on 07912 846127\n&nbs
 p\;\n\n
ATTACH;FMTTYPE=image/jpeg:/app/uploads/2025/04/Say-no-to-knife-violent-cri
 me.png
CATEGORIES:Family Event
LOCATION:Harlow Rugby Club\, Latton Park\, Howard Way\, Latton Bush\, Harlo
 w\, Essex\, CM20 3FD\, Essex\, United Kingdom
X-APPLE-STRUCTURED-LOCATION;VALUE=URI;X-ADDRESS=Latton Park\, Howard Way\, 
 Latton Bush\, Harlow\, Essex\, CM20 3FD\, Essex\, United Kingdom;X-APPLE-R
 ADIUS=100;X-TITLE=Harlow Rugby Club:geo:0,0
END:VEVENT
END:VCALENDAR