BEGIN:VCALENDAR
VERSION:2.0
PRODID:-//wp-events-plugin.com//7.2.3.1//EN
BEGIN:VEVENT
UID:128@harlowrugby.club
DTSTART:20260424T193000Z
DTEND:20260424T193000Z
DTSTAMP:20250914T152915Z
URL:https://harlowrugby.club/events/fanny-galore-90s-bingo-party/
SUMMARY:Fanny Galore: 90's Bingo Party
DESCRIPTION:Come and enjoy a fabulous game of bingo hosted by the one and o
 nly Fanny Galore\, our beloved drag queen.
ATTACH;FMTTYPE=image/jpeg:/app/uploads/2025/09/Fanny-Galore-90s-Bingo-Part
 y-24.04.26-SQUARE.png
CATEGORIES:Party
LOCATION:Harlow Rugby Club\, Latton Park\, Howard Way\, Latton Bush\, Harlo
 w\, Essex\, CM20 3FD\, Essex\, United Kingdom
X-APPLE-STRUCTURED-LOCATION;VALUE=URI;X-ADDRESS=Latton Park\, Howard Way\, 
 Latton Bush\, Harlow\, Essex\, CM20 3FD\, Essex\, United Kingdom;X-APPLE-R
 ADIUS=100;X-TITLE=Harlow Rugby Club:geo:0,0
END:VEVENT
END:VCALENDAR