BEGIN:VCALENDAR
VERSION:2.0
PRODID:-//wp-events-plugin.com//7.2.3.1//EN
BEGIN:VEVENT
UID:38@harlowrugby.club
DTSTART:20241213T193000Z
DTEND:20241214T010000Z
DTSTAMP:20240904T114135Z
URL:https://harlowrugby.club/events/festive-buffet-2/
SUMMARY:Christmas Party - SOLD OUT
DESCRIPTION:Come to eat\, drink and be merry with us at our Festive Buffet!
 \n\n 	Glass of Fizz upon arrival\n 	Over 18's only\n 	DJ\n\nOther dates av
 ailable:\n\n29th November\n\n19th December\n\n20th December
ATTACH;FMTTYPE=image/jpeg:/app/uploads/2024/07/Christmas-Party-13-Dec.png
CATEGORIES:Party
LOCATION:Harlow Rugby Club\, Latton Park\, Howard Way\, Latton Bush\, Harlo
 w\, Essex\, CM20 3FD\, Essex\, United Kingdom
X-APPLE-STRUCTURED-LOCATION;VALUE=URI;X-ADDRESS=Latton Park\, Howard Way\, 
 Latton Bush\, Harlow\, Essex\, CM20 3FD\, Essex\, United Kingdom;X-APPLE-R
 ADIUS=100;X-TITLE=Harlow Rugby Club:geo:0,0
END:VEVENT
END:VCALENDAR