BEGIN:VCALENDAR
VERSION:2.0
PRODID:-//wp-events-plugin.com//7.2.3.1//EN
BEGIN:VEVENT
UID:265@harlowrugby.club
DTSTART:20260501T180000Z
DTEND:20260501T180000Z
DTSTAMP:20260312T143634Z
URL:https://harlowrugby.club/events/food-nights-2/
SUMMARY:Around The World Food Nights
DESCRIPTION:\nAround The World Food Nights\n\n\nJoin us at Harlow Rugby Clu
 b for our new themed food nights!\n\n\n\n\n 	1st Friday every month – Ma
 y 1st Theme - ITALIAN\n\n\n\n 	£15 per person\n 	From 6PM\n\n\n\n\n 	Pre-
 booking only\n\n\n\n\n\n 	Book now to secure your table.\n\n
ATTACH;FMTTYPE=image/jpeg:/app/uploads/2026/02/AROUND-THE-WORLD-FOOD-NIGHT
 S-Card-Square-3.png
CATEGORIES:Supper
LOCATION:Harlow Rugby Club\, Latton Park\, Howard Way\, Latton Bush\, Harlo
 w\, Essex\, CM20 3FD\, Essex\, United Kingdom
X-APPLE-STRUCTURED-LOCATION;VALUE=URI;X-ADDRESS=Latton Park\, Howard Way\, 
 Latton Bush\, Harlow\, Essex\, CM20 3FD\, Essex\, United Kingdom;X-APPLE-R
 ADIUS=100;X-TITLE=Harlow Rugby Club:geo:0,0
END:VEVENT
END:VCALENDAR