BEGIN:VCALENDAR
VERSION:2.0
PRODID:-//wp-events-plugin.com//7.2.3.1//EN
BEGIN:VEVENT
UID:79@harlowrugby.club
DTSTART:20250305T194500Z
DTEND:20250305T224500Z
DTSTAMP:20250221T191825Z
URL:https://harlowrugby.club/events/harlow-ladies-quiz-night-fundraiser/
SUMMARY:Harlow Ladies Quiz Night Fundraiser
DESCRIPTION:They're Back and Better Than Ever!\nJoin us for another electri
 fying night of Quiz Fun! Gather your smartest pals and get ready to challe
 nge your wits for a chance to win amazing prizes.\n\n 	Prizes for 1st\, 2n
 d &amp\; 3rd Place!\n 	 Exciting Raffle Prizes Await!\n 	Max 8 People Per
  Team\n 	Just £5 Entry Per Person\n 	2 Raffle Strips Included Per Team\n
ATTACH;FMTTYPE=image/jpeg:/app/uploads/2025/02/Ladies-Quiz-Night.jpg
CATEGORIES:Family Event
END:VEVENT
END:VCALENDAR