BEGIN:VCALENDAR
VERSION:2.0
PRODID:-//wp-events-plugin.com//7.2.3.1//EN
BEGIN:VEVENT
UID:43@harlowrugby.club
DTSTART:20241011T210000Z
DTEND:20241012T020000Z
DTSTAMP:20240726T194513Z
URL:https://harlowrugby.club/events/house-vs-garage/
SUMMARY:House vs Garage
DESCRIPTION:A night of house and garage non-stop music\, good energy\, and 
 fresh anthems\n\n 	Over 18's Only\n 	Floorfiller Events\n
ATTACH;FMTTYPE=image/jpeg:/app/uploads/2024/07/11th-Oct-House-vs-Garage-we
 bsite-image.png
CATEGORIES:Party
LOCATION:Harlow Rugby Club\, Latton Park\, Howard Way\, Latton Bush\, Harlo
 w\, Essex\, CM20 3FD\, Essex\, United Kingdom
X-APPLE-STRUCTURED-LOCATION;VALUE=URI;X-ADDRESS=Latton Park\, Howard Way\, 
 Latton Bush\, Harlow\, Essex\, CM20 3FD\, Essex\, United Kingdom;X-APPLE-R
 ADIUS=100;X-TITLE=Harlow Rugby Club:geo:0,0
END:VEVENT
END:VCALENDAR