BEGIN:VCALENDAR
VERSION:2.0
PRODID:-//wp-events-plugin.com//7.2.3.1//EN
BEGIN:VEVENT
UID:52@harlowrugby.club
DTSTART;VALUE=DATE:20241215
DTEND;VALUE=DATE:20241216
DTSTAMP:20241216T194515Z
URL:https://harlowrugby.club/events/kids-bobble-hats/
SUMMARY:Kids Bobble Hats
DESCRIPTION:Order online and collect from the club Bar
ATTACH;FMTTYPE=image/jpeg:/app/uploads/2024/10/WhatsApp-Image-2024-10-30-a
 t-10.49.49_b6940617.jpg
CATEGORIES:SHOP
END:VEVENT
END:VCALENDAR