BEGIN:VCALENDAR
VERSION:2.0
PRODID:-//wp-events-plugin.com//7.2.3.1//EN
BEGIN:VEVENT
UID:6@harlowrugby.club
DTSTART:20240810T140000Z
DTEND:20240811T010000Z
DTSTAMP:20240611T135141Z
URL:https://harlowrugby.club/events/rum-reggae-party-outside-event/
SUMMARY:Rum & Reggae Party: Outside Event
DESCRIPTION:Come and join us with your family on the terrace for a Rum &amp
 \; Reggae Party!\nDJ starting from 2pm\, live music during the day (bands 
 to be announced shortly)\nFun filled games 2pm - 6pm - children &amp\; adu
 lts games!\nJust imagine face painting &amp\; glitter tattoos 2:30pm - 5:3
 0pm!\nTriple X live from 9pm!\nCaribbean food &amp\; BBQ available through
 out the day provided by Ronnies Kitchen!\nRum punch 2-4-1 ALL DAY!\nFree e
 ntry!!
ATTACH;FMTTYPE=image/jpeg:/app/uploads/2024/06/reggae.jpg
CATEGORIES:Party
LOCATION:Harlow Rugby Club\, Latton Park\, Howard Way\, Latton Bush\, Harlo
 w\, Essex\, CM20 3FD\, Essex\, United Kingdom
X-APPLE-STRUCTURED-LOCATION;VALUE=URI;X-ADDRESS=Latton Park\, Howard Way\, 
 Latton Bush\, Harlow\, Essex\, CM20 3FD\, Essex\, United Kingdom;X-APPLE-R
 ADIUS=100;X-TITLE=Harlow Rugby Club:geo:0,0
END:VEVENT
END:VCALENDAR